BEGIN:VCALENDAR
PRODID:-//eluceo/ical//2.0/EN
VERSION:2.0
CALSCALE:GREGORIAN
BEGIN:VEVENT
UID:b19a975eabcdd5da42dfac0386b2cd69
DTSTAMP:20260420T102454Z
SUMMARY:Drama
DTSTART;TZID=Europe/Prague:20260514T150000
DTEND;TZID=Europe/Prague:20260514T164600
LOCATION:Kino Světozor
END:VEVENT
END:VCALENDAR
BEGIN:VCALENDAR
PRODID:-//eluceo/ical//2.0/EN
VERSION:2.0
CALSCALE:GREGORIAN
BEGIN:VEVENT
UID:2e6a6120515571b02de0d03a2d8f8a03
DTSTAMP:20260420T102454Z
SUMMARY:Drama
DTSTART;TZID=Europe/Prague:20260514T150000
DTEND;TZID=Europe/Prague:20260514T164600
LOCATION:Kino Světozor
END:VEVENT
END:VCALENDAR
