BEGIN:VCALENDAR
PRODID:-//eluceo/ical//2.0/EN
VERSION:2.0
CALSCALE:GREGORIAN
BEGIN:VEVENT
UID:680b5817f52f249b2ba644019c256bfe
DTSTAMP:20260423T021217Z
SUMMARY:Slepice
DTSTART;TZID=Europe/Prague:20260512T150000
DTEND;TZID=Europe/Prague:20260512T163600
LOCATION:Kino Světozor
END:VEVENT
END:VCALENDAR
BEGIN:VCALENDAR
PRODID:-//eluceo/ical//2.0/EN
VERSION:2.0
CALSCALE:GREGORIAN
BEGIN:VEVENT
UID:05ee95464a40d5d676961e07c44f0933
DTSTAMP:20260423T021217Z
SUMMARY:Slepice
DTSTART;TZID=Europe/Prague:20260512T150000
DTEND;TZID=Europe/Prague:20260512T163600
LOCATION:Kino Světozor
END:VEVENT
END:VCALENDAR
