BEGIN:VCALENDAR
PRODID:-//eluceo/ical//2.0/EN
VERSION:2.0
CALSCALE:GREGORIAN
BEGIN:VEVENT
UID:47e9a0b652daacbf5654e73da0d694b9
DTSTAMP:20260420T102418Z
SUMMARY:Drama
DTSTART;TZID=Europe/Prague:20260426T203000
DTEND;TZID=Europe/Prague:20260426T221600
LOCATION:Kino Aero
END:VEVENT
END:VCALENDAR
BEGIN:VCALENDAR
PRODID:-//eluceo/ical//2.0/EN
VERSION:2.0
CALSCALE:GREGORIAN
BEGIN:VEVENT
UID:5fe6a68694705be5c66e62dc2b89a913
DTSTAMP:20260420T102418Z
SUMMARY:Drama
DTSTART;TZID=Europe/Prague:20260426T203000
DTEND;TZID=Europe/Prague:20260426T221600
LOCATION:Kino Aero
END:VEVENT
END:VCALENDAR
