BEGIN:VCALENDAR
PRODID:-//eluceo/ical//2.0/EN
VERSION:2.0
CALSCALE:GREGORIAN
BEGIN:VEVENT
UID:56eb90c45eac4161c39753f39fe06ad6
DTSTAMP:20260420T102406Z
SUMMARY:Drama
DTSTART;TZID=Europe/Prague:20260428T203000
DTEND;TZID=Europe/Prague:20260428T221600
LOCATION:Kino Aero
END:VEVENT
END:VCALENDAR
BEGIN:VCALENDAR
PRODID:-//eluceo/ical//2.0/EN
VERSION:2.0
CALSCALE:GREGORIAN
BEGIN:VEVENT
UID:c84aa2a880a3c2e905486ed731e2a2ce
DTSTAMP:20260420T102406Z
SUMMARY:Drama
DTSTART;TZID=Europe/Prague:20260428T203000
DTEND;TZID=Europe/Prague:20260428T221600
LOCATION:Kino Aero
END:VEVENT
END:VCALENDAR
