BEGIN:VCALENDAR
PRODID:-//eluceo/ical//2.0/EN
VERSION:2.0
CALSCALE:GREGORIAN
BEGIN:VEVENT
UID:87d9a270634c88878486175464798284
DTSTAMP:20260423T161844Z
SUMMARY:Pád
DTSTART;TZID=Europe/Prague:20260429T180000
DTEND;TZID=Europe/Prague:20260429T195200
LOCATION:Kino Aero
END:VEVENT
END:VCALENDAR
BEGIN:VCALENDAR
PRODID:-//eluceo/ical//2.0/EN
VERSION:2.0
CALSCALE:GREGORIAN
BEGIN:VEVENT
UID:069d35af5859a4da37a63628d0f8aefe
DTSTAMP:20260423T161844Z
SUMMARY:Pád
DTSTART;TZID=Europe/Prague:20260429T180000
DTEND;TZID=Europe/Prague:20260429T195200
LOCATION:Kino Aero
END:VEVENT
END:VCALENDAR
