BEGIN:VCALENDAR
PRODID:-//eluceo/ical//2.0/EN
VERSION:2.0
CALSCALE:GREGORIAN
BEGIN:VEVENT
UID:3e292f3f0e95231992f201acc2c7bd38
DTSTAMP:20260420T103013Z
SUMMARY:Drama
DTSTART;TZID=Europe/Prague:20260425T153000
DTEND;TZID=Europe/Prague:20260425T171600
LOCATION:Kino Lucerna
END:VEVENT
END:VCALENDAR
BEGIN:VCALENDAR
PRODID:-//eluceo/ical//2.0/EN
VERSION:2.0
CALSCALE:GREGORIAN
BEGIN:VEVENT
UID:1a42fecef7b5959ed91544a8c7b1f41e
DTSTAMP:20260420T103013Z
SUMMARY:Drama
DTSTART;TZID=Europe/Prague:20260425T153000
DTEND;TZID=Europe/Prague:20260425T171600
LOCATION:Kino Lucerna
END:VEVENT
END:VCALENDAR
