BEGIN:VCALENDAR
PRODID:-//eluceo/ical//2.0/EN
VERSION:2.0
CALSCALE:GREGORIAN
BEGIN:VEVENT
UID:bf33b2affb3f02eb39e2855e7ed52976
DTSTAMP:20260420T102631Z
SUMMARY:Drama
DTSTART;TZID=Europe/Prague:20260425T174500
DTEND;TZID=Europe/Prague:20260425T193100
LOCATION:Kino Lucerna
END:VEVENT
END:VCALENDAR
BEGIN:VCALENDAR
PRODID:-//eluceo/ical//2.0/EN
VERSION:2.0
CALSCALE:GREGORIAN
BEGIN:VEVENT
UID:83d8565d5b4ea312978ad02f8a28c514
DTSTAMP:20260420T102631Z
SUMMARY:Drama
DTSTART;TZID=Europe/Prague:20260425T174500
DTEND;TZID=Europe/Prague:20260425T193100
LOCATION:Kino Lucerna
END:VEVENT
END:VCALENDAR
