BEGIN:VCALENDAR
PRODID:-//eluceo/ical//2.0/EN
VERSION:2.0
CALSCALE:GREGORIAN
BEGIN:VEVENT
UID:ef3177b039c9283115d072af41cea22b
DTSTAMP:20260420T102549Z
SUMMARY:Drama
DTSTART;TZID=Europe/Prague:20260426T150000
DTEND;TZID=Europe/Prague:20260426T164600
LOCATION:Kino Lucerna
END:VEVENT
END:VCALENDAR
BEGIN:VCALENDAR
PRODID:-//eluceo/ical//2.0/EN
VERSION:2.0
CALSCALE:GREGORIAN
BEGIN:VEVENT
UID:90393401d846b6f81e86f04afe5c6ec0
DTSTAMP:20260420T102549Z
SUMMARY:Drama
DTSTART;TZID=Europe/Prague:20260426T150000
DTEND;TZID=Europe/Prague:20260426T164600
LOCATION:Kino Lucerna
END:VEVENT
END:VCALENDAR
