BEGIN:VCALENDAR
PRODID:-//eluceo/ical//2.0/EN
VERSION:2.0
CALSCALE:GREGORIAN
BEGIN:VEVENT
UID:baa135540067cf12cd0c285ba340cdae
DTSTAMP:20260423T021418Z
SUMMARY:Slepice
DTSTART;TZID=Europe/Prague:20260426T173000
DTEND;TZID=Europe/Prague:20260426T190600
LOCATION:Kino Lucerna
END:VEVENT
END:VCALENDAR
BEGIN:VCALENDAR
PRODID:-//eluceo/ical//2.0/EN
VERSION:2.0
CALSCALE:GREGORIAN
BEGIN:VEVENT
UID:b2862dda2a4653fb5eca45c09928eff6
DTSTAMP:20260423T021418Z
SUMMARY:Slepice
DTSTART;TZID=Europe/Prague:20260426T173000
DTEND;TZID=Europe/Prague:20260426T190600
LOCATION:Kino Lucerna
END:VEVENT
END:VCALENDAR
