BEGIN:VCALENDAR
PRODID:-//eluceo/ical//2.0/EN
VERSION:2.0
CALSCALE:GREGORIAN
BEGIN:VEVENT
UID:683b9babf91df505112cd71d15a96f70
DTSTAMP:20260420T102652Z
SUMMARY:Drama
DTSTART;TZID=Europe/Prague:20260426T200000
DTEND;TZID=Europe/Prague:20260426T214600
LOCATION:Kino Lucerna
END:VEVENT
END:VCALENDAR
BEGIN:VCALENDAR
PRODID:-//eluceo/ical//2.0/EN
VERSION:2.0
CALSCALE:GREGORIAN
BEGIN:VEVENT
UID:36e954a43babeed813e532bcb8b8ff4a
DTSTAMP:20260420T102652Z
SUMMARY:Drama
DTSTART;TZID=Europe/Prague:20260426T200000
DTEND;TZID=Europe/Prague:20260426T214600
LOCATION:Kino Lucerna
END:VEVENT
END:VCALENDAR
