BEGIN:VCALENDAR
PRODID:-//eluceo/ical//2.0/EN
VERSION:2.0
CALSCALE:GREGORIAN
BEGIN:VEVENT
UID:f09339f9cc7eee9eae5d135c597783a8
DTSTAMP:20260423T161617Z
SUMMARY:Pád
DTSTART;TZID=Europe/Prague:20260424T180000
DTEND;TZID=Europe/Prague:20260424T195200
LOCATION:Bio Oko
END:VEVENT
END:VCALENDAR
BEGIN:VCALENDAR
PRODID:-//eluceo/ical//2.0/EN
VERSION:2.0
CALSCALE:GREGORIAN
BEGIN:VEVENT
UID:05ce55cc0d663262a91682f8a7380d85
DTSTAMP:20260423T161617Z
SUMMARY:Pád
DTSTART;TZID=Europe/Prague:20260424T180000
DTEND;TZID=Europe/Prague:20260424T195200
LOCATION:Bio Oko
END:VEVENT
END:VCALENDAR
