BEGIN:VCALENDAR
PRODID:-//eluceo/ical//2.0/EN
VERSION:2.0
CALSCALE:GREGORIAN
BEGIN:VEVENT
UID:efd65843e6bbf085fe93598d75f466b9
DTSTAMP:20260423T161649Z
SUMMARY:Kill Bill: The Whole Bloody Affair
DTSTART;TZID=Europe/Prague:20260425T181000
DTEND;TZID=Europe/Prague:20260425T224500
LOCATION:Bio Oko
END:VEVENT
END:VCALENDAR
BEGIN:VCALENDAR
PRODID:-//eluceo/ical//2.0/EN
VERSION:2.0
CALSCALE:GREGORIAN
BEGIN:VEVENT
UID:a1ec5b027506e412242fe9910a92aab0
DTSTAMP:20260423T161649Z
SUMMARY:Kill Bill: The Whole Bloody Affair
DTSTART;TZID=Europe/Prague:20260425T181000
DTEND;TZID=Europe/Prague:20260425T224500
LOCATION:Bio Oko
END:VEVENT
END:VCALENDAR
