BEGIN:VCALENDAR
PRODID:-//eluceo/ical//2.0/EN
VERSION:2.0
CALSCALE:GREGORIAN
BEGIN:VEVENT
UID:549f668ba82d39d558c78a6901afb54c
DTSTAMP:20260423T161844Z
SUMMARY:Pád
DTSTART;TZID=Europe/Prague:20260430T203000
DTEND;TZID=Europe/Prague:20260430T222200
LOCATION:Bio Oko
END:VEVENT
END:VCALENDAR
BEGIN:VCALENDAR
PRODID:-//eluceo/ical//2.0/EN
VERSION:2.0
CALSCALE:GREGORIAN
BEGIN:VEVENT
UID:af29d96d279d2713cbd2ff5f79706e46
DTSTAMP:20260423T161844Z
SUMMARY:Pád
DTSTART;TZID=Europe/Prague:20260430T203000
DTEND;TZID=Europe/Prague:20260430T222200
LOCATION:Bio Oko
END:VEVENT
END:VCALENDAR
