BEGIN:VCALENDAR
PRODID:-//eluceo/ical//2.0/EN
VERSION:2.0
CALSCALE:GREGORIAN
BEGIN:VEVENT
UID:08181de672b7be6bde860bc8682da752
DTSTAMP:20260423T021412Z
SUMMARY:Slepice
DTSTART;TZID=Europe/Prague:20260425T160000
DTEND;TZID=Europe/Prague:20260425T173600
LOCATION:Bio Oko
END:VEVENT
END:VCALENDAR
BEGIN:VCALENDAR
PRODID:-//eluceo/ical//2.0/EN
VERSION:2.0
CALSCALE:GREGORIAN
BEGIN:VEVENT
UID:0e93cf843c33d03c98408ec1fae99d93
DTSTAMP:20260423T021412Z
SUMMARY:Slepice
DTSTART;TZID=Europe/Prague:20260425T160000
DTEND;TZID=Europe/Prague:20260425T173600
LOCATION:Bio Oko
END:VEVENT
END:VCALENDAR
