BEGIN:VCALENDAR
PRODID:-//eluceo/ical//2.0/EN
VERSION:2.0
CALSCALE:GREGORIAN
BEGIN:VEVENT
UID:d0c520c04e56373931538ac9d2c4e4ce
DTSTAMP:20260420T105249Z
SUMMARY:Frankenstein | NT Live
DTSTART;TZID=Europe/Prague:20260708T203000
DTEND;TZID=Europe/Prague:20260708T225000
LOCATION:Kino Aero
END:VEVENT
END:VCALENDAR
BEGIN:VCALENDAR
PRODID:-//eluceo/ical//2.0/EN
VERSION:2.0
CALSCALE:GREGORIAN
BEGIN:VEVENT
UID:b13616cd8477dcb824b9bef66e08e6f1
DTSTAMP:20260420T105249Z
SUMMARY:Frankenstein | NT Live
DTSTART;TZID=Europe/Prague:20260708T203000
DTEND;TZID=Europe/Prague:20260708T225000
LOCATION:Kino Aero
END:VEVENT
END:VCALENDAR
