BEGIN:VCALENDAR
PRODID:-//eluceo/ical//2.0/EN
VERSION:2.0
CALSCALE:GREGORIAN
BEGIN:VEVENT
UID:1d0abc47e7c5de5be3ac81b1e32b16ee
DTSTAMP:20260420T102707Z
SUMMARY:Drama
DTSTART;TZID=Europe/Prague:20260426T201000
DTEND;TZID=Europe/Prague:20260426T215600
LOCATION:Bio Oko
END:VEVENT
END:VCALENDAR
BEGIN:VCALENDAR
PRODID:-//eluceo/ical//2.0/EN
VERSION:2.0
CALSCALE:GREGORIAN
BEGIN:VEVENT
UID:5c5cfe4ac850dbadd494940e3e3a519f
DTSTAMP:20260420T102707Z
SUMMARY:Drama
DTSTART;TZID=Europe/Prague:20260426T201000
DTEND;TZID=Europe/Prague:20260426T215600
LOCATION:Bio Oko
END:VEVENT
END:VCALENDAR
