BEGIN:VCALENDAR
PRODID:-//eluceo/ical//2.0/EN
VERSION:2.0
CALSCALE:GREGORIAN
BEGIN:VEVENT
UID:f62e107f51f0532ca919242911338288
DTSTAMP:20260420T102400Z
SUMMARY:Drama
DTSTART;TZID=Europe/Prague:20260429T180000
DTEND;TZID=Europe/Prague:20260429T194600
LOCATION:Bio Oko
END:VEVENT
END:VCALENDAR
BEGIN:VCALENDAR
PRODID:-//eluceo/ical//2.0/EN
VERSION:2.0
CALSCALE:GREGORIAN
BEGIN:VEVENT
UID:c20810856d7622e58e0be4d243130e23
DTSTAMP:20260420T102400Z
SUMMARY:Drama
DTSTART;TZID=Europe/Prague:20260429T180000
DTEND;TZID=Europe/Prague:20260429T194600
LOCATION:Bio Oko
END:VEVENT
END:VCALENDAR
