BEGIN:VCALENDAR
PRODID:-//eluceo/ical//2.0/EN
VERSION:2.0
CALSCALE:GREGORIAN
BEGIN:VEVENT
UID:3b806a95bf48df84fa44179b4c77bcbf
DTSTAMP:20260420T102549Z
SUMMARY:Drama
DTSTART;TZID=Europe/Prague:20260427T124500
DTEND;TZID=Europe/Prague:20260427T143100
LOCATION:Kino Lucerna
END:VEVENT
END:VCALENDAR
BEGIN:VCALENDAR
PRODID:-//eluceo/ical//2.0/EN
VERSION:2.0
CALSCALE:GREGORIAN
BEGIN:VEVENT
UID:6b90603970ac50ebdbc6417d614823dd
DTSTAMP:20260420T102549Z
SUMMARY:Drama
DTSTART;TZID=Europe/Prague:20260427T124500
DTEND;TZID=Europe/Prague:20260427T143100
LOCATION:Kino Lucerna
END:VEVENT
END:VCALENDAR
