BEGIN:VCALENDAR
PRODID:-//eluceo/ical//2.0/EN
VERSION:2.0
CALSCALE:GREGORIAN
BEGIN:VEVENT
UID:44c27806c6f2cc4dbf0fbd17144f0210
DTSTAMP:20260420T102406Z
SUMMARY:Drama
DTSTART;TZID=Europe/Prague:20260427T203000
DTEND;TZID=Europe/Prague:20260427T221600
LOCATION:Kino Lucerna
END:VEVENT
END:VCALENDAR
BEGIN:VCALENDAR
PRODID:-//eluceo/ical//2.0/EN
VERSION:2.0
CALSCALE:GREGORIAN
BEGIN:VEVENT
UID:ecdda88d64aec974d802f026e67b889c
DTSTAMP:20260420T102406Z
SUMMARY:Drama
DTSTART;TZID=Europe/Prague:20260427T203000
DTEND;TZID=Europe/Prague:20260427T221600
LOCATION:Kino Lucerna
END:VEVENT
END:VCALENDAR
