BEGIN:VCALENDAR
PRODID:-//eluceo/ical//2.0/EN
VERSION:2.0
CALSCALE:GREGORIAN
BEGIN:VEVENT
UID:45359e69568f662205924b86c055a120
DTSTAMP:20260420T102953Z
SUMMARY:Drama
DTSTART;TZID=Europe/Prague:20260428T180000
DTEND;TZID=Europe/Prague:20260428T194600
LOCATION:Kino Lucerna
END:VEVENT
END:VCALENDAR
BEGIN:VCALENDAR
PRODID:-//eluceo/ical//2.0/EN
VERSION:2.0
CALSCALE:GREGORIAN
BEGIN:VEVENT
UID:a7ddc06ffc90022d712c1e3b691312ca
DTSTAMP:20260420T102953Z
SUMMARY:Drama
DTSTART;TZID=Europe/Prague:20260428T180000
DTEND;TZID=Europe/Prague:20260428T194600
LOCATION:Kino Lucerna
END:VEVENT
END:VCALENDAR
