BEGIN:VCALENDAR
PRODID:-//eluceo/ical//2.0/EN
VERSION:2.0
CALSCALE:GREGORIAN
BEGIN:VEVENT
UID:e7fd39309d17783fe238740a3cfd06ae
DTSTAMP:20260420T102406Z
SUMMARY:Drama
DTSTART;TZID=Europe/Prague:20260429T124500
DTEND;TZID=Europe/Prague:20260429T143100
LOCATION:Kino Lucerna
END:VEVENT
END:VCALENDAR
BEGIN:VCALENDAR
PRODID:-//eluceo/ical//2.0/EN
VERSION:2.0
CALSCALE:GREGORIAN
BEGIN:VEVENT
UID:813871a9c97eed947a429900eb1e6364
DTSTAMP:20260420T102406Z
SUMMARY:Drama
DTSTART;TZID=Europe/Prague:20260429T124500
DTEND;TZID=Europe/Prague:20260429T143100
LOCATION:Kino Lucerna
END:VEVENT
END:VCALENDAR
