BEGIN:VCALENDAR
PRODID:-//eluceo/ical//2.0/EN
VERSION:2.0
CALSCALE:GREGORIAN
BEGIN:VEVENT
UID:e2c1b406b8220d2cf249eba0c325d572
DTSTAMP:20260423T021305Z
SUMMARY:Slepice
DTSTART;TZID=Europe/Prague:20260429T151500
DTEND;TZID=Europe/Prague:20260429T165100
LOCATION:Kino Lucerna
END:VEVENT
END:VCALENDAR
BEGIN:VCALENDAR
PRODID:-//eluceo/ical//2.0/EN
VERSION:2.0
CALSCALE:GREGORIAN
BEGIN:VEVENT
UID:72807a86ad9a6e96fc2ab363dd94866d
DTSTAMP:20260423T021305Z
SUMMARY:Slepice
DTSTART;TZID=Europe/Prague:20260429T151500
DTEND;TZID=Europe/Prague:20260429T165100
LOCATION:Kino Lucerna
END:VEVENT
END:VCALENDAR
