BEGIN:VCALENDAR
PRODID:-//eluceo/ical//2.0/EN
VERSION:2.0
CALSCALE:GREGORIAN
BEGIN:VEVENT
UID:402bd2f15ee04ccc3b7996fccf955adc
DTSTAMP:20260420T102953Z
SUMMARY:Drama
DTSTART;TZID=Europe/Prague:20260429T174500
DTEND;TZID=Europe/Prague:20260429T193100
LOCATION:Kino Lucerna
END:VEVENT
END:VCALENDAR
BEGIN:VCALENDAR
PRODID:-//eluceo/ical//2.0/EN
VERSION:2.0
CALSCALE:GREGORIAN
BEGIN:VEVENT
UID:788bf74ac392f7febbae60bd17a43d69
DTSTAMP:20260420T102953Z
SUMMARY:Drama
DTSTART;TZID=Europe/Prague:20260429T174500
DTEND;TZID=Europe/Prague:20260429T193100
LOCATION:Kino Lucerna
END:VEVENT
END:VCALENDAR
