BEGIN:VCALENDAR
PRODID:-//eluceo/ical//2.0/EN
VERSION:2.0
CALSCALE:GREGORIAN
BEGIN:VEVENT
UID:21d04ad4ab84f1c7f6fc45bd0823ab29
DTSTAMP:20260423T020947Z
SUMMARY:Slepice
DTSTART;TZID=Europe/Prague:20260427T180000
DTEND;TZID=Europe/Prague:20260427T193600
LOCATION:Kino Lucerna
END:VEVENT
END:VCALENDAR
BEGIN:VCALENDAR
PRODID:-//eluceo/ical//2.0/EN
VERSION:2.0
CALSCALE:GREGORIAN
BEGIN:VEVENT
UID:0359cfee97c50e5d66a4563f7ecf0cbd
DTSTAMP:20260423T020947Z
SUMMARY:Slepice
DTSTART;TZID=Europe/Prague:20260427T180000
DTEND;TZID=Europe/Prague:20260427T193600
LOCATION:Kino Lucerna
END:VEVENT
END:VCALENDAR
