BEGIN:VCALENDAR
PRODID:-//eluceo/ical//2.0/EN
VERSION:2.0
CALSCALE:GREGORIAN
BEGIN:VEVENT
UID:2424fa2323d3c718f2cf93cddc769058
DTSTAMP:20260423T021352Z
SUMMARY:Slepice
DTSTART;TZID=Europe/Prague:20260424T174500
DTEND;TZID=Europe/Prague:20260424T192100
LOCATION:Kino Světozor
END:VEVENT
END:VCALENDAR
BEGIN:VCALENDAR
PRODID:-//eluceo/ical//2.0/EN
VERSION:2.0
CALSCALE:GREGORIAN
BEGIN:VEVENT
UID:34d85ec24b7cafd77d56a863b36de411
DTSTAMP:20260423T021352Z
SUMMARY:Slepice
DTSTART;TZID=Europe/Prague:20260424T174500
DTEND;TZID=Europe/Prague:20260424T192100
LOCATION:Kino Světozor
END:VEVENT
END:VCALENDAR
