BEGIN:VCALENDAR
PRODID:-//eluceo/ical//2.0/EN
VERSION:2.0
CALSCALE:GREGORIAN
BEGIN:VEVENT
UID:d25568686b6bf737fcab9095bc17e43f
DTSTAMP:20260423T020947Z
SUMMARY:Slepice
DTSTART;TZID=Europe/Prague:20260425T183000
DTEND;TZID=Europe/Prague:20260425T200600
LOCATION:Kino Světozor
END:VEVENT
END:VCALENDAR
BEGIN:VCALENDAR
PRODID:-//eluceo/ical//2.0/EN
VERSION:2.0
CALSCALE:GREGORIAN
BEGIN:VEVENT
UID:4c2490224c3a3d28492fa1e0f3bd995f
DTSTAMP:20260423T020947Z
SUMMARY:Slepice
DTSTART;TZID=Europe/Prague:20260425T183000
DTEND;TZID=Europe/Prague:20260425T200600
LOCATION:Kino Světozor
END:VEVENT
END:VCALENDAR
