BEGIN:VCALENDAR
PRODID:-//eluceo/ical//2.0/EN
VERSION:2.0
CALSCALE:GREGORIAN
BEGIN:VEVENT
UID:0b65be8dd84b5c77bcb404e1c520f044
DTSTAMP:20260423T021540Z
SUMMARY:Slepice
DTSTART;TZID=Europe/Prague:20260426T114500
DTEND;TZID=Europe/Prague:20260426T132100
LOCATION:Kino Světozor
END:VEVENT
END:VCALENDAR
BEGIN:VCALENDAR
PRODID:-//eluceo/ical//2.0/EN
VERSION:2.0
CALSCALE:GREGORIAN
BEGIN:VEVENT
UID:8be324cf0da4a5e2e9ad5feaf2265c54
DTSTAMP:20260423T021540Z
SUMMARY:Slepice
DTSTART;TZID=Europe/Prague:20260426T114500
DTEND;TZID=Europe/Prague:20260426T132100
LOCATION:Kino Světozor
END:VEVENT
END:VCALENDAR
