BEGIN:VCALENDAR
PRODID:-//eluceo/ical//2.0/EN
VERSION:2.0
CALSCALE:GREGORIAN
BEGIN:VEVENT
UID:df5298346e4e13eb8756dd5820ba82c8
DTSTAMP:20260423T020743Z
SUMMARY:Slepice
DTSTART;TZID=Europe/Prague:20260428T180000
DTEND;TZID=Europe/Prague:20260428T193600
LOCATION:Kino Světozor
END:VEVENT
END:VCALENDAR
BEGIN:VCALENDAR
PRODID:-//eluceo/ical//2.0/EN
VERSION:2.0
CALSCALE:GREGORIAN
BEGIN:VEVENT
UID:991abf399bef173025c05e408bf54721
DTSTAMP:20260423T020743Z
SUMMARY:Slepice
DTSTART;TZID=Europe/Prague:20260428T180000
DTEND;TZID=Europe/Prague:20260428T193600
LOCATION:Kino Světozor
END:VEVENT
END:VCALENDAR
