BEGIN:VCALENDAR
PRODID:-//eluceo/ical//2.0/EN
VERSION:2.0
CALSCALE:GREGORIAN
BEGIN:VEVENT
UID:195848cb846ec1c5669f3d408dede743
DTSTAMP:20260423T020921Z
SUMMARY:Slepice
DTSTART;TZID=Europe/Prague:20260429T201500
DTEND;TZID=Europe/Prague:20260429T215100
LOCATION:Kino Světozor
END:VEVENT
END:VCALENDAR
BEGIN:VCALENDAR
PRODID:-//eluceo/ical//2.0/EN
VERSION:2.0
CALSCALE:GREGORIAN
BEGIN:VEVENT
UID:532b70f8ef957a6ca973f09ecef8ef4c
DTSTAMP:20260423T020921Z
SUMMARY:Slepice
DTSTART;TZID=Europe/Prague:20260429T201500
DTEND;TZID=Europe/Prague:20260429T215100
LOCATION:Kino Světozor
END:VEVENT
END:VCALENDAR
