BEGIN:VCALENDAR
PRODID:-//eluceo/ical//2.0/EN
VERSION:2.0
CALSCALE:GREGORIAN
BEGIN:VEVENT
UID:8768ffa57eb040fe94065077798996d5
DTSTAMP:20260423T161649Z
SUMMARY:Pád
DTSTART;TZID=Europe/Prague:20260427T203000
DTEND;TZID=Europe/Prague:20260427T222200
LOCATION:Kino Světozor
END:VEVENT
END:VCALENDAR
BEGIN:VCALENDAR
PRODID:-//eluceo/ical//2.0/EN
VERSION:2.0
CALSCALE:GREGORIAN
BEGIN:VEVENT
UID:e3b44ee06ce6aa9eb15a2da243bea013
DTSTAMP:20260423T161649Z
SUMMARY:Pád
DTSTART;TZID=Europe/Prague:20260427T203000
DTEND;TZID=Europe/Prague:20260427T222200
LOCATION:Kino Světozor
END:VEVENT
END:VCALENDAR
