BEGIN:VCALENDAR
PRODID:-//eluceo/ical//2.0/EN
VERSION:2.0
CALSCALE:GREGORIAN
BEGIN:VEVENT
UID:24635cd74c4c5b7117e8688bc4247a6e
DTSTAMP:20260423T161805Z
SUMMARY:Pád
DTSTART;TZID=Europe/Prague:20260426T201500
DTEND;TZID=Europe/Prague:20260426T220700
LOCATION:Kino Světozor
END:VEVENT
END:VCALENDAR
BEGIN:VCALENDAR
PRODID:-//eluceo/ical//2.0/EN
VERSION:2.0
CALSCALE:GREGORIAN
BEGIN:VEVENT
UID:a196170d32f9c44186d0edddad79a072
DTSTAMP:20260423T161805Z
SUMMARY:Pád
DTSTART;TZID=Europe/Prague:20260426T201500
DTEND;TZID=Europe/Prague:20260426T220700
LOCATION:Kino Světozor
END:VEVENT
END:VCALENDAR
