BEGIN:VCALENDAR
PRODID:-//eluceo/ical//2.0/EN
VERSION:2.0
CALSCALE:GREGORIAN
BEGIN:VEVENT
UID:633b0d177f8c4f178b3a89e120b4bb74
DTSTAMP:20260423T161735Z
SUMMARY:Pád
DTSTART;TZID=Europe/Prague:20260429T181500
DTEND;TZID=Europe/Prague:20260429T200700
LOCATION:Kino Světozor
END:VEVENT
END:VCALENDAR
BEGIN:VCALENDAR
PRODID:-//eluceo/ical//2.0/EN
VERSION:2.0
CALSCALE:GREGORIAN
BEGIN:VEVENT
UID:9a0657e6609d0252634a3c72f93ce80b
DTSTAMP:20260423T161735Z
SUMMARY:Pád
DTSTART;TZID=Europe/Prague:20260429T181500
DTEND;TZID=Europe/Prague:20260429T200700
LOCATION:Kino Světozor
END:VEVENT
END:VCALENDAR
