BEGIN:VCALENDAR
PRODID:-//eluceo/ical//2.0/EN
VERSION:2.0
CALSCALE:GREGORIAN
BEGIN:VEVENT
UID:1caf956635dd113206f9559a7be0d9e4
DTSTAMP:20260420T102530Z
SUMMARY:Drama
DTSTART;TZID=Europe/Prague:20260423T173000
DTEND;TZID=Europe/Prague:20260423T191600
LOCATION:Kino Světozor
END:VEVENT
END:VCALENDAR
BEGIN:VCALENDAR
PRODID:-//eluceo/ical//2.0/EN
VERSION:2.0
CALSCALE:GREGORIAN
BEGIN:VEVENT
UID:ffafb486c1fa525d8f9f093ef287ccf8
DTSTAMP:20260420T102530Z
SUMMARY:Drama
DTSTART;TZID=Europe/Prague:20260423T173000
DTEND;TZID=Europe/Prague:20260423T191600
LOCATION:Kino Světozor
END:VEVENT
END:VCALENDAR
