BEGIN:VCALENDAR
PRODID:-//eluceo/ical//2.0/EN
VERSION:2.0
CALSCALE:GREGORIAN
BEGIN:VEVENT
UID:2f84d353cb056e9e42a18d1a8654a552
DTSTAMP:20260420T102536Z
SUMMARY:Drama
DTSTART;TZID=Europe/Prague:20260424T151500
DTEND;TZID=Europe/Prague:20260424T170100
LOCATION:Kino Světozor
END:VEVENT
END:VCALENDAR
BEGIN:VCALENDAR
PRODID:-//eluceo/ical//2.0/EN
VERSION:2.0
CALSCALE:GREGORIAN
BEGIN:VEVENT
UID:bad88c5eb4c767686afde72da3911036
DTSTAMP:20260420T102536Z
SUMMARY:Drama
DTSTART;TZID=Europe/Prague:20260424T151500
DTEND;TZID=Europe/Prague:20260424T170100
LOCATION:Kino Světozor
END:VEVENT
END:VCALENDAR
