BEGIN:VCALENDAR
PRODID:-//eluceo/ical//2.0/EN
VERSION:2.0
CALSCALE:GREGORIAN
BEGIN:VEVENT
UID:07926f4d0b1c9a2df5644e6970fe668f
DTSTAMP:20260420T102418Z
SUMMARY:Drama
DTSTART;TZID=Europe/Prague:20260424T174500
DTEND;TZID=Europe/Prague:20260424T193100
LOCATION:Kino Světozor
END:VEVENT
END:VCALENDAR
BEGIN:VCALENDAR
PRODID:-//eluceo/ical//2.0/EN
VERSION:2.0
CALSCALE:GREGORIAN
BEGIN:VEVENT
UID:54df1023e0757deb881d9fb1d8b6b032
DTSTAMP:20260420T102418Z
SUMMARY:Drama
DTSTART;TZID=Europe/Prague:20260424T174500
DTEND;TZID=Europe/Prague:20260424T193100
LOCATION:Kino Světozor
END:VEVENT
END:VCALENDAR
