BEGIN:VCALENDAR
PRODID:-//eluceo/ical//2.0/EN
VERSION:2.0
CALSCALE:GREGORIAN
BEGIN:VEVENT
UID:9804e1cb5c610045722c016b7f34c80b
DTSTAMP:20260420T102841Z
SUMMARY:Drama
DTSTART;TZID=Europe/Prague:20260425T150000
DTEND;TZID=Europe/Prague:20260425T164600
LOCATION:Kino Světozor
END:VEVENT
END:VCALENDAR
BEGIN:VCALENDAR
PRODID:-//eluceo/ical//2.0/EN
VERSION:2.0
CALSCALE:GREGORIAN
BEGIN:VEVENT
UID:1ba640728ef6ef62168d9cfed56d6f4a
DTSTAMP:20260420T102841Z
SUMMARY:Drama
DTSTART;TZID=Europe/Prague:20260425T150000
DTEND;TZID=Europe/Prague:20260425T164600
LOCATION:Kino Světozor
END:VEVENT
END:VCALENDAR
