BEGIN:VCALENDAR
PRODID:-//eluceo/ical//2.0/EN
VERSION:2.0
CALSCALE:GREGORIAN
BEGIN:VEVENT
UID:a7b0149f84af81cb95e1efc7a50e2675
DTSTAMP:20260420T102929Z
SUMMARY:Drama
DTSTART;TZID=Europe/Prague:20260429T150000
DTEND;TZID=Europe/Prague:20260429T164600
LOCATION:Kino Světozor
END:VEVENT
END:VCALENDAR
BEGIN:VCALENDAR
PRODID:-//eluceo/ical//2.0/EN
VERSION:2.0
CALSCALE:GREGORIAN
BEGIN:VEVENT
UID:c3c72374fa7991b1f73b09092f6c10ad
DTSTAMP:20260420T102929Z
SUMMARY:Drama
DTSTART;TZID=Europe/Prague:20260429T150000
DTEND;TZID=Europe/Prague:20260429T164600
LOCATION:Kino Světozor
END:VEVENT
END:VCALENDAR
