BEGIN:VCALENDAR
PRODID:-//eluceo/ical//2.0/EN
VERSION:2.0
CALSCALE:GREGORIAN
BEGIN:VEVENT
UID:013b7f41373884891584d08f37118a99
DTSTAMP:20260420T103026Z
SUMMARY:Drama
DTSTART;TZID=Europe/Prague:20260429T204500
DTEND;TZID=Europe/Prague:20260429T223100
LOCATION:Kino Světozor
END:VEVENT
END:VCALENDAR
BEGIN:VCALENDAR
PRODID:-//eluceo/ical//2.0/EN
VERSION:2.0
CALSCALE:GREGORIAN
BEGIN:VEVENT
UID:a0498315d97080d3cae51fcd9821af95
DTSTAMP:20260420T103026Z
SUMMARY:Drama
DTSTART;TZID=Europe/Prague:20260429T204500
DTEND;TZID=Europe/Prague:20260429T223100
LOCATION:Kino Světozor
END:VEVENT
END:VCALENDAR
