BEGIN:VCALENDAR
PRODID:-//eluceo/ical//2.0/EN
VERSION:2.0
CALSCALE:GREGORIAN
BEGIN:VEVENT
UID:0de94877c5f98bf7439d9b75932d186e
DTSTAMP:20260420T102211Z
SUMMARY:Drama
DTSTART;TZID=Europe/Prague:20260427T173000
DTEND;TZID=Europe/Prague:20260427T191600
LOCATION:Kino Světozor
END:VEVENT
END:VCALENDAR
BEGIN:VCALENDAR
PRODID:-//eluceo/ical//2.0/EN
VERSION:2.0
CALSCALE:GREGORIAN
BEGIN:VEVENT
UID:2ac7a0777170efbe73470c66b0dfce62
DTSTAMP:20260420T102211Z
SUMMARY:Drama
DTSTART;TZID=Europe/Prague:20260427T173000
DTEND;TZID=Europe/Prague:20260427T191600
LOCATION:Kino Světozor
END:VEVENT
END:VCALENDAR
