BEGIN:VCALENDAR
PRODID:-//eluceo/ical//2.0/EN
VERSION:2.0
CALSCALE:GREGORIAN
BEGIN:VEVENT
UID:f29b1049e1774b134af5871e356d2955
DTSTAMP:20260423T020856Z
SUMMARY:Slepice
DTSTART;TZID=Europe/Prague:20260427T200000
DTEND;TZID=Europe/Prague:20260427T213600
LOCATION:Kino Světozor
END:VEVENT
END:VCALENDAR
BEGIN:VCALENDAR
PRODID:-//eluceo/ical//2.0/EN
VERSION:2.0
CALSCALE:GREGORIAN
BEGIN:VEVENT
UID:612128c63fdaed4f5cc75908ead61309
DTSTAMP:20260423T020856Z
SUMMARY:Slepice
DTSTART;TZID=Europe/Prague:20260427T200000
DTEND;TZID=Europe/Prague:20260427T213600
LOCATION:Kino Světozor
END:VEVENT
END:VCALENDAR
