BEGIN:VCALENDAR
PRODID:-//eluceo/ical//2.0/EN
VERSION:2.0
CALSCALE:GREGORIAN
BEGIN:VEVENT
UID:e94b1d836004da8d520f60ecc4f871d2
DTSTAMP:20260420T102212Z
SUMMARY:Drama
DTSTART;TZID=Europe/Prague:20260423T153000
DTEND;TZID=Europe/Prague:20260423T171600
LOCATION:Kino Světozor
END:VEVENT
END:VCALENDAR
BEGIN:VCALENDAR
PRODID:-//eluceo/ical//2.0/EN
VERSION:2.0
CALSCALE:GREGORIAN
BEGIN:VEVENT
UID:eece1baeded67ca614674e02d5ec83d0
DTSTAMP:20260420T102212Z
SUMMARY:Drama
DTSTART;TZID=Europe/Prague:20260423T153000
DTEND;TZID=Europe/Prague:20260423T171600
LOCATION:Kino Světozor
END:VEVENT
END:VCALENDAR
