BEGIN:VCALENDAR
PRODID:-//eluceo/ical//2.0/EN
VERSION:2.0
CALSCALE:GREGORIAN
BEGIN:VEVENT
UID:1076751b5dccebc65d72fc3d5b5f8a1d
DTSTAMP:20260422T085513Z
SUMMARY:Drama
DTSTART;TZID=Europe/Prague:20260423T203000
DTEND;TZID=Europe/Prague:20260423T221600
LOCATION:Kino Světozor
END:VEVENT
END:VCALENDAR
BEGIN:VCALENDAR
PRODID:-//eluceo/ical//2.0/EN
VERSION:2.0
CALSCALE:GREGORIAN
BEGIN:VEVENT
UID:63f6202bf4629194ee2788b5d20e1979
DTSTAMP:20260422T085513Z
SUMMARY:Drama
DTSTART;TZID=Europe/Prague:20260423T203000
DTEND;TZID=Europe/Prague:20260423T221600
LOCATION:Kino Světozor
END:VEVENT
END:VCALENDAR
