BEGIN:VCALENDAR
PRODID:-//eluceo/ical//2.0/EN
VERSION:2.0
CALSCALE:GREGORIAN
BEGIN:VEVENT
UID:7a91cd24b0e50dd86a2b23784994111b
DTSTAMP:20260420T102454Z
SUMMARY:Drama
DTSTART;TZID=Europe/Prague:20260425T130000
DTEND;TZID=Europe/Prague:20260425T144600
LOCATION:Kino Světozor
END:VEVENT
END:VCALENDAR
BEGIN:VCALENDAR
PRODID:-//eluceo/ical//2.0/EN
VERSION:2.0
CALSCALE:GREGORIAN
BEGIN:VEVENT
UID:b7bf49228e8e36834f93901819e9fe8a
DTSTAMP:20260420T102454Z
SUMMARY:Drama
DTSTART;TZID=Europe/Prague:20260425T130000
DTEND;TZID=Europe/Prague:20260425T144600
LOCATION:Kino Světozor
END:VEVENT
END:VCALENDAR
