BEGIN:VCALENDAR
PRODID:-//eluceo/ical//2.0/EN
VERSION:2.0
CALSCALE:GREGORIAN
BEGIN:VEVENT
UID:3f1b2ab1d4b80f663c899aec99cf1ddc
DTSTAMP:20260420T102454Z
SUMMARY:Drama
DTSTART;TZID=Europe/Prague:20260425T203000
DTEND;TZID=Europe/Prague:20260425T221600
LOCATION:Kino Světozor
END:VEVENT
END:VCALENDAR
BEGIN:VCALENDAR
PRODID:-//eluceo/ical//2.0/EN
VERSION:2.0
CALSCALE:GREGORIAN
BEGIN:VEVENT
UID:f41b9caf139351a006a27c73a3dfdc26
DTSTAMP:20260420T102454Z
SUMMARY:Drama
DTSTART;TZID=Europe/Prague:20260425T203000
DTEND;TZID=Europe/Prague:20260425T221600
LOCATION:Kino Světozor
END:VEVENT
END:VCALENDAR
