BEGIN:VCALENDAR
PRODID:-//eluceo/ical//2.0/EN
VERSION:2.0
CALSCALE:GREGORIAN
BEGIN:VEVENT
UID:d1353368f96aff5b93d6bc4c890e4ba3
DTSTAMP:20260420T102206Z
SUMMARY:Drama
DTSTART;TZID=Europe/Prague:20260426T121500
DTEND;TZID=Europe/Prague:20260426T140100
LOCATION:Kino Světozor
END:VEVENT
END:VCALENDAR
BEGIN:VCALENDAR
PRODID:-//eluceo/ical//2.0/EN
VERSION:2.0
CALSCALE:GREGORIAN
BEGIN:VEVENT
UID:97f04866818df6e56b65708eec8a32ca
DTSTAMP:20260420T102206Z
SUMMARY:Drama
DTSTART;TZID=Europe/Prague:20260426T121500
DTEND;TZID=Europe/Prague:20260426T140100
LOCATION:Kino Světozor
END:VEVENT
END:VCALENDAR
