BEGIN:VCALENDAR
PRODID:-//eluceo/ical//2.0/EN
VERSION:2.0
CALSCALE:GREGORIAN
BEGIN:VEVENT
UID:311a1fa64c931d03e5abb56a868ad7e5
DTSTAMP:20260420T102207Z
SUMMARY:Drama
DTSTART;TZID=Europe/Prague:20260426T180000
DTEND;TZID=Europe/Prague:20260426T194600
LOCATION:Kino Světozor
END:VEVENT
END:VCALENDAR
BEGIN:VCALENDAR
PRODID:-//eluceo/ical//2.0/EN
VERSION:2.0
CALSCALE:GREGORIAN
BEGIN:VEVENT
UID:56fed9a2e179eab725f31d24f285bacc
DTSTAMP:20260420T102207Z
SUMMARY:Drama
DTSTART;TZID=Europe/Prague:20260426T180000
DTEND;TZID=Europe/Prague:20260426T194600
LOCATION:Kino Světozor
END:VEVENT
END:VCALENDAR
