BEGIN:VCALENDAR
PRODID:-//eluceo/ical//2.0/EN
VERSION:2.0
CALSCALE:GREGORIAN
BEGIN:VEVENT
UID:1057859d2290f0d00f2e9d4b1128223f
DTSTAMP:20260420T102652Z
SUMMARY:Drama
DTSTART;TZID=Europe/Prague:20260428T153000
DTEND;TZID=Europe/Prague:20260428T171600
LOCATION:Kino Světozor
END:VEVENT
END:VCALENDAR
BEGIN:VCALENDAR
PRODID:-//eluceo/ical//2.0/EN
VERSION:2.0
CALSCALE:GREGORIAN
BEGIN:VEVENT
UID:8485042929f857f1175e46a6c038e7f1
DTSTAMP:20260420T102652Z
SUMMARY:Drama
DTSTART;TZID=Europe/Prague:20260428T153000
DTEND;TZID=Europe/Prague:20260428T171600
LOCATION:Kino Světozor
END:VEVENT
END:VCALENDAR
