BEGIN:VCALENDAR
PRODID:-//eluceo/ical//2.0/EN
VERSION:2.0
CALSCALE:GREGORIAN
BEGIN:VEVENT
UID:57f7c2bbe121031b4dbdc6fe27ee1df9
DTSTAMP:20260420T102530Z
SUMMARY:Drama
DTSTART;TZID=Europe/Prague:20260428T201500
DTEND;TZID=Europe/Prague:20260428T220100
LOCATION:Kino Světozor
END:VEVENT
END:VCALENDAR
BEGIN:VCALENDAR
PRODID:-//eluceo/ical//2.0/EN
VERSION:2.0
CALSCALE:GREGORIAN
BEGIN:VEVENT
UID:8a3765d4aeecd97e50d05d9270eaa837
DTSTAMP:20260420T102530Z
SUMMARY:Drama
DTSTART;TZID=Europe/Prague:20260428T201500
DTEND;TZID=Europe/Prague:20260428T220100
LOCATION:Kino Světozor
END:VEVENT
END:VCALENDAR
