BEGIN:VCALENDAR
PRODID:-//eluceo/ical//2.0/EN
VERSION:2.0
CALSCALE:GREGORIAN
BEGIN:VEVENT
UID:d48b76341671946f1bb3dabf3e124b14
DTSTAMP:20260423T020743Z
SUMMARY:Slepice
DTSTART;TZID=Europe/Prague:20260426T203000
DTEND;TZID=Europe/Prague:20260426T220600
LOCATION:Kino Světozor
END:VEVENT
END:VCALENDAR
BEGIN:VCALENDAR
PRODID:-//eluceo/ical//2.0/EN
VERSION:2.0
CALSCALE:GREGORIAN
BEGIN:VEVENT
UID:7a05b381078365f517bd6eecb5217d49
DTSTAMP:20260423T020743Z
SUMMARY:Slepice
DTSTART;TZID=Europe/Prague:20260426T203000
DTEND;TZID=Europe/Prague:20260426T220600
LOCATION:Kino Světozor
END:VEVENT
END:VCALENDAR
