BEGIN:VCALENDAR
PRODID:-//eluceo/ical//2.0/EN
VERSION:2.0
CALSCALE:GREGORIAN
BEGIN:VEVENT
UID:ba3af1f20e691dc84e5bd750998eda1e
DTSTAMP:20260423T021643Z
SUMMARY:Příběhy Kouzelného stromu
DTSTART;TZID=Europe/Prague:20260508T150000
DTEND;TZID=Europe/Prague:20260508T165000
LOCATION:Kino Aero
END:VEVENT
END:VCALENDAR
BEGIN:VCALENDAR
PRODID:-//eluceo/ical//2.0/EN
VERSION:2.0
CALSCALE:GREGORIAN
BEGIN:VEVENT
UID:0ab37f879914923b553a4c159339e168
DTSTAMP:20260423T021643Z
SUMMARY:Příběhy Kouzelného stromu
DTSTART;TZID=Europe/Prague:20260508T150000
DTEND;TZID=Europe/Prague:20260508T165000
LOCATION:Kino Aero
END:VEVENT
END:VCALENDAR
